BEGIN:VCALENDAR
VERSION:2.0
PRODID:-//Squarespace Inc/Squarespace 6//v6//EN
BEGIN:VEVENT
UID:57c189b1893fc083d161e080@squarespace.com
DTSTAMP:20160901T084640Z
DTSTART:20160911T060000Z
DTEND:20160911T090000Z
SUMMARY:YOGA + AROMATHERAPY WORKSHOP
GEO:-31.948191;115.859876
LOCATION:Tonic Yoga\, Level 1\, 242 William Street\, Northbridge WA 6003\, 
 Australia
END:VEVENT
END:VCALENDAR
