BEGIN:VCALENDAR
VERSION:2.0
PRODID:-//Squarespace Inc/Squarespace 6//v6//EN
BEGIN:VEVENT
UID:5847a49020099ec3c4b9a733@squarespace.com
DTSTAMP:20170203T102851Z
DTSTART:20170108T060000Z
DTEND:20170108T090000Z
SUMMARY:MANIFESTING MASTERCLASS
GEO:-31.948191;115.859876
LOCATION:TONIC YOGA\, Level 1\, 242 William Street\, Northbridge WA 6003\, 
 Australia
END:VEVENT
END:VCALENDAR
