BEGIN:VCALENDAR
VERSION:2.0
PRODID:-//Squarespace Inc/Squarespace 6//v6//EN
BEGIN:VEVENT
UID:58944e146a4963a27a5a594e@squarespace.com
DTSTAMP:20170217T073713Z
DTSTART:20160617T100000Z
DTEND:20160617T113000Z
SUMMARY:COMMUNITY CLASS: Shake your Chakras with Ashley Pincott
GEO:-31.94828;115.860063
LOCATION:Tonic Yoga\, Level 1\, 242 William Street\, Northbridge\, Western 
 Australia\, Australia
END:VEVENT
END:VCALENDAR
