BEGIN:VCALENDAR
VERSION:2.0
PRODID:-//Squarespace Inc/Squarespace 6//v6//EN
BEGIN:VEVENT
UID:577f6c0dd482e970d74251f4@squarespace.com
DTSTAMP:20160724T104443Z
DTSTART:20160808T093000Z
DTEND:20160912T104500Z
SUMMARY:Beginners Course
GEO:-31.948208;115.859865
LOCATION:TONIC YOGA\, Level 1\, 242 William Street\, Northbridge\, WA\, Aus
 tralia
END:VEVENT
END:VCALENDAR
