BEGIN:VCALENDAR
VERSION:2.0
PRODID:-//Squarespace Inc/Squarespace 6//v6//EN
BEGIN:VEVENT
UID:579491e62994cace5cb776bb@squarespace.com
DTSTAMP:20160801T025928Z
DTSTART:20160807T043000Z
DTEND:20160807T123000Z
SUMMARY:SPECIAL GUEST: Tara Bliss - Learn about Essential Oils
GEO:-31.948208;115.859865
LOCATION:TONIC YOGA\, Level 1\, 242 William Street\, NORTHBRIDGE WA 6003\, 
 AUSTRALIA
END:VEVENT
END:VCALENDAR
