BEGIN:VCALENDAR
VERSION:2.0
PRODID:-//Squarespace Inc/Squarespace 6//v6//EN
BEGIN:VEVENT
UID:57723a8446c3c40a108e5ef1@squarespace.com
DTSTAMP:20160714T114937Z
DTSTART:20160729T080000Z
DTEND:20160729T110000Z
SUMMARY:Open Studio
GEO:-31.948208;115.859865
LOCATION:Tonic Yoga\, Level 1\, 242 William Street\, Northbridge\, Australi
 a
END:VEVENT
END:VCALENDAR
