BEGIN:VCALENDAR
VERSION:2.0
PRODID:-//Squarespace Inc/Squarespace 6//v6//EN
BEGIN:VEVENT
UID:57ecb4d0b8a79b1947b02ae5@squarespace.com
DTSTAMP:20160929T064452Z
DTSTART:20161029T043000Z
DTEND:20161029T060000Z
SUMMARY:SUMMER BODY SECRETS
GEO:-31.948191;115.859876
LOCATION:TONIC YOGA\, Level 1\, 242 William Street\, Northbridge\, WA\, 600
 3\, Australia
END:VEVENT
END:VCALENDAR
