BEGIN:VCALENDAR
VERSION:2.0
PRODID:-//Squarespace Inc/Squarespace 6//v6//EN
BEGIN:VEVENT
UID:57e8cb1659cc68725d67ffb4@squarespace.com
DTSTAMP:20160926T072829Z
DTSTART:20161002T103000Z
DTEND:20161002T123000Z
SUMMARY:QUIET EARTH - Devotional Music Performance
GEO:-31.948191;115.859876
LOCATION:Tonic Yoga\, Level 1\, 242 William Street\, Northbridge\, WA 6003\
 , Australia
END:VEVENT
END:VCALENDAR
