BEGIN:VCALENDAR
VERSION:2.0
PRODID:-//Squarespace Inc/Squarespace 6//v6//EN
BEGIN:VEVENT
UID:57bce7d237c5813f34f7878e@squarespace.com
DTSTAMP:20161013T082245Z
DTSTART:20161026T110000Z
DTEND:20161130T121500Z
SUMMARY:YIN + MEDITATION COURSE
GEO:-31.948308;115.860085
LOCATION:TONIC YOGA\, Level 1\, 242 William Street\, Northbridge WA 6003\, 
 Australia
END:VEVENT
END:VCALENDAR
