BEGIN:VCALENDAR
VERSION:2.0
PRODID:-//Squarespace Inc/Squarespace 6//v6//EN
BEGIN:VEVENT
UID:5833aea0ebbd1ac1583121ed@squarespace.com
DTSTAMP:20161207T055524Z
DTSTART:20161224T000000Z
DTEND:20161224T023000Z
SUMMARY:THE JOY OF CHRISTMAS
GEO:-31.948191;115.859876
LOCATION:TONIC YOGA\, Level 1\, 242 William Street\, Northbridge\, Western 
 Australia 6003\, Australia
END:VEVENT
END:VCALENDAR
