BEGIN:VCALENDAR
VERSION:2.0
PRODID:-//Squarespace Inc/Squarespace 6//v6//EN
BEGIN:VEVENT
UID:57e8c4f6d2b857a31e1eb194@squarespace.com
DTSTAMP:20160929T062722Z
DTSTART:20161023T043000Z
DTEND:20161023T083000Z
SUMMARY:BEND + BLOOM
GEO:-31.948191;115.859876
LOCATION:Tonic Yoga\, Level 1\, 242 William Street\, Northbridge\, WA 6003\
 , Australia
END:VEVENT
END:VCALENDAR
