BEGIN:VCALENDAR
VERSION:2.0
PRODID:-//Squarespace Inc/Squarespace 6//v6//EN
BEGIN:VEVENT
UID:5823e6de725e254a9d15ffc6@squarespace.com
DTSTAMP:20161110T032911Z
DTSTART:20161118T093000Z
DTEND:20161118T110000Z
SUMMARY:YOGA JAM: Only in Perth Community Event
GEO:-31.946949;115.857359
LOCATION:Tonic Yoga\, Level 1\, 242 William Street (ENTER OFF FRANCIS ST)\, 
 NORTHBRIDGE WA 6003\, AUSTRALIA
END:VEVENT
END:VCALENDAR
